BEGIN:VCALENDAR
VERSION:2.0
PRODID:-//Suffolk Centre - ECPv6.15.20//NONSGML v1.0//EN
CALSCALE:GREGORIAN
METHOD:PUBLISH
X-ORIGINAL-URL:https://www.suffolkcentre.org.uk
X-WR-CALDESC:Events for Suffolk Centre
REFRESH-INTERVAL;VALUE=DURATION:PT1H
X-Robots-Tag:noindex
X-PUBLISHED-TTL:PT1H
BEGIN:VTIMEZONE
TZID:UTC
BEGIN:STANDARD
TZOFFSETFROM:+0000
TZOFFSETTO:+0000
TZNAME:UTC
DTSTART:20240101T000000
END:STANDARD
END:VTIMEZONE
BEGIN:VEVENT
DTSTART;TZID=UTC:20250404T173000
DTEND;TZID=UTC:20250406T130000
DTSTAMP:20260421T133039
CREATED:20191124T223333Z
LAST-MODIFIED:20241230T135326Z
UID:2655-1743787800-1743944400@www.suffolkcentre.org.uk
SUMMARY:Annual Dinner Dance Rally\, Invitation From South Essex Centre
DESCRIPTION:Map reference:\n \n\n\nWhat3word.Com:\n///beans.held.oven\n\n\nRally limit:\n30 Units\n\n\nDirections:\nTHE ESSEX BARN\, SHOPLAND HALL FARM\,  \nSHOPLAND ROAD\, ROCHFORD SS4 1LT \nFrom Southend bound A127\, turn left at the Toby Carvery (Bell P.H.) into Rochford Road. At roundabout take third exit over railway bridge. At next Roundabout (Ann Boleyn P.H.) take second exit into Sutton Road. Straight on at mini roundabout and take next turning on left (on sharp right bend) into Shopland Road. The Essex Barn is located at Shopland Hall\, turning on right after approx. 2 miles. Follow SECC signs.\n\n\nServices:\n \n\n\nProgramme:\nThis runs from Friday 4th April 2025 @ 5.30 p.m. until Sunday 6th April 2025. Please note arrival time\, please do not arrive any earlier.  This is a 2-night rally. \nCome and join us for our Annual Dinner & Dance. The venue for the Dinner & Dance is Saxon Hall\, Aviation Way\, Southend on Sea\, Essex SS2 6UN. With a sumptuous meal and dancing to ‘Live Entertainment’ a fabulous evening is in store. Return transport will be organised between Shopland Hall and Saxon Hall.  Site Fee: £13.00 per night (+ VAT).\n\n\nRally slips to:\nNo online bookings accepted Please use special booking form available at www.secc-online.org.uk. \n\n\nRally Marshals:\nDavid Mills with South Essex Committee\n\n\nSlips to Marshals by:\n 
URL:https://www.suffolkcentre.org.uk/programme/pre-season-dinner-invitation-from-north-essex-centre/
END:VEVENT
BEGIN:VEVENT
DTSTART;TZID=UTC:20250417T120000
DTEND;TZID=UTC:20250422T140000
DTSTAMP:20260421T133039
CREATED:20241230T140426Z
LAST-MODIFIED:20241230T140426Z
UID:4712-1744891200-1745330400@www.suffolkcentre.org.uk
SUMMARY:Invitation from Mid-Anglia Centre - CARSINGTON WATER EASTER RALLY
DESCRIPTION:  \n\n\n\nNo Of Nights:\n5\n\n\nPost Code:\nDE6 1NR\n\n\nWhat3Words.Com:\n \n\n\nRally limit:\n \n\n\nDirections:\nUPPERTOWN FARM\, ASHBOURNE\, DERBYSHIRE\, DE6 1NR \nTurn off A517 (Belper to Ashbourne Road) in Hulland Ward onto Dog Lane – signposted with Brown Signs for Carsington Water. In ¾ mile at crossroads turn right – signposted Carsington Water / caravan site. Continue on this road past the CAMC site and the Visitor Centre. Rally field is ¼ mile after Visitor Centre on RHS.\n\n\nServices:\n \n\n\nProgramme:\nTraditional Easter rally\, Decorate a hardboiled Egg\, Easter Bunnies\, Easter Egg Hunt. Shelters available for evening entertainment.  A chance to explore this beautiful part of the country. Full programme on arrival.  Site Fees are £10 per night + Admin + Social + VAT. \nPlease see uppertownfarmleisure.co.uk for more details of the site and surrounding area.\n\n\nRally slips to:\nBookings can be made via the Mid-Anglia website – www.midanglia.org.uk. \n\n\nRally Marshalls:\nJohn & Barbara Rutter\n\n\nSlips to Marshall by:\nIf booking within 10 days of the rally\, please contact marshals for availability of spaces\n\n\n\n 
URL:https://www.suffolkcentre.org.uk/programme/invitation-from-mid-anglia-centre-carsington-water-easter-rally/
LOCATION:Uppertown Farm\, Ashbourne\, Derbyshire\, DE6 1NR\, United Kingdom
END:VEVENT
END:VCALENDAR