BEGIN:VCALENDAR
VERSION:2.0
PRODID:-//Suffolk Centre - ECPv6.15.20//NONSGML v1.0//EN
CALSCALE:GREGORIAN
METHOD:PUBLISH
X-WR-CALNAME:Suffolk Centre
X-ORIGINAL-URL:https://www.suffolkcentre.org.uk
X-WR-CALDESC:Events for Suffolk Centre
REFRESH-INTERVAL;VALUE=DURATION:PT1H
X-Robots-Tag:noindex
X-PUBLISHED-TTL:PT1H
BEGIN:VTIMEZONE
TZID:UTC
BEGIN:STANDARD
TZOFFSETFROM:+0000
TZOFFSETTO:+0000
TZNAME:UTC
DTSTART:20230101T000000
END:STANDARD
END:VTIMEZONE
BEGIN:VEVENT
DTSTART;TZID=UTC:20240502T120000
DTEND;TZID=UTC:20240506T120000
DTSTAMP:20260422T030419
CREATED:20191124T234839Z
LAST-MODIFIED:20240101T152532Z
UID:2541-1714651200-1714996800@www.suffolkcentre.org.uk
SUMMARY:There's Sutton Going On In Suffolk
DESCRIPTION:  \n\n\n\nNo Of Nights:\n2-4\n\n\nPost Code:\nIP12 3DU\n\n\nWhat3Words.Com:\n///skirting.wire.newer\n\n\nRally limit:\n50 Vans\n\n\nDirections:\nFrom A12 take the Melton Road\, straight over the traffic lights. Over the\nrailway crossing and at the roundabout take the B1083 to Bawdsey. Follow rally signs.\n\n\nServices:\nFresh water & chemical waste point available. Own sanitation essential. No\nhook-up. The Plough public house a short walk away. Nearest shops & takeaways in Melton or\nAlderton (4 miles).\n\n\nProgramme:\nTraditional Suffolk rally atmosphere with live music\, entertainment\, and time to\nexplore the local sites and scenery. Saturday morning village spring market in the hall.\nFriday Evening – Live entertainment with Mick and Terry “Tricks of the Trade” with sounds from the\n60’s to now. Saturday Evening – Games in the hall. Chinese Auction (bring a wrapped mystery prize\nno more than £5 in value) followed by Prize Bingo\, Possible Charity Raffle (donations welcome in\nsupport of the Chairman’s nominated charity).\nAnticipated all-inclusive rally fee (4 nights) approx. £16 per night. (2 nights) approx. £22 per night\n\n\nRally slips to:\nSee Rally Handbook\n\n\nRally Marshals:\nTrev and Sue Smith \n\n\nSlips to Marshals by:\nIf booking within 10 days of the rally\, please contact Trevor Smith for availability of spaces.
URL:https://www.suffolkcentre.org.uk/programme/spring-in-tangham-2020/
LOCATION:Sutton Memorial Hall\, Old Post Office Lane\, Sutton\, Woodbridge\, IP12 3JH\, United Kingdom
ATTACH;FMTTYPE=image/jpeg:https://www.suffolkcentre.org.uk/wp-content/uploads/2019/09/Sutton-Memorial-Hall.jpg
END:VEVENT
BEGIN:VEVENT
DTSTART;TZID=UTC:20240531T120000
DTEND;TZID=UTC:20240602T150000
DTSTAMP:20260422T030419
CREATED:20190111T130455Z
LAST-MODIFIED:20240101T155453Z
UID:863-1717156800-1717340400@www.suffolkcentre.org.uk
SUMMARY:Relax At Rockingham
DESCRIPTION:  \n\n\n\nPost Code:\n CO5 9UL\n\n\nWHAT3WORD.COM:\nTBA\n\n\nDirections:\nINVITATION FROM NORTH ESSEX CENTRE \nFrom Colchester take B1022 toward Tiptree\, at Tiptree mini roundabout\nturn left onto Church Rd\, at crossroads turn left into Chapel Rd\, follow onto Newbridge Rd. Turn right\nonto Stockhouse Rd\, at T Juncjtion turn right onto Rockingham Farm Rd. Follow rally signs. From\nMaldon take B1022 to Tiptree\, at Tiptree turn right onto Station Rd\, go across into Chapel Rd.\n\n\nServices:\nOwn sanitation essential.\n\n\nRally Limit:\n40 Units\n\n\nProgramme:\nRelax in rural Essex\, in a beautiful meadow setting\, with woodland trail.\nSaturday communal bbq\, possible fishing available.\nSite Fee £8.50 per van night + admin fee + social + VAT.\n\n\nRally slip to:\nSee Rally Book\n\n\nRally Marshals:\nKevin & Dawn Lowrie\n\n\nBookings Accepted By:\n20th May 2024
URL:https://www.suffolkcentre.org.uk/programme/the-national/
LOCATION:Rockingham Farm\, LAYER MARNEY\, Essex\, CO5 9UL\, United Kingdom
END:VEVENT
END:VCALENDAR