BEGIN:VCALENDAR
VERSION:2.0
PRODID:-//Suffolk Centre - ECPv6.15.20//NONSGML v1.0//EN
CALSCALE:GREGORIAN
METHOD:PUBLISH
X-WR-CALNAME:Suffolk Centre
X-ORIGINAL-URL:https://www.suffolkcentre.org.uk
X-WR-CALDESC:Events for Suffolk Centre
REFRESH-INTERVAL;VALUE=DURATION:PT1H
X-Robots-Tag:noindex
X-PUBLISHED-TTL:PT1H
BEGIN:VTIMEZONE
TZID:UTC
BEGIN:STANDARD
TZOFFSETFROM:+0000
TZOFFSETTO:+0000
TZNAME:UTC
DTSTART:20230101T000000
END:STANDARD
END:VTIMEZONE
BEGIN:VEVENT
DTSTART;TZID=UTC:20240419T140000
DTEND;TZID=UTC:20240421T140000
DTSTAMP:20260422T041340
CREATED:20191124T232918Z
LAST-MODIFIED:20240214T210656Z
UID:2526-1713535200-1713708000@www.suffolkcentre.org.uk
SUMMARY:Anglia Region Question Time Event
DESCRIPTION:  \n\n\n\nDIRECTIONS:  \nBANHAM ZOO \nKenninghall Road\, Banham\, Norfolk\, NR16 2HE. \nFollow the brown tourist signs to Banham Zoological Gardens from the A11 and A140.\nEnter the zoo car park and follow the one-way route and signs to Applewood Countryside Park.\n\n\nInformation:\nThe Norfolk Centre Committee invite you to join them at their weekend event which is coinciding\nwith The Anglia Region Question Time at Banham Zoo. The Question Time will be a great opportunity\nto meet Club representatives from East Grinstead Head Office. If you attend the meeting in the\nmorning\, you will then have free access to Banham Zoo in the afternoon. Bookings from 1/1/2024. \nPlease note if you are booking onto this rally or just attending the question time event\, the Zoo and Campsite have a strict rule that no dogs or other animals can be left unattended\, in cars\, Caravans or Motorhomes\, at any time. \nEvent opens on Friday 19th April at 14:00\, please do not arrive prior to this time.\nSaturday morning – 09:00 to 13:00 Anglia Region Question Time at Banham Zoo\, 5-minute walk from\nthe campsite. Proposed Saturday evening get together at the pub opposite. Site fee will be\napproximately £45 inc admin for the weekend. A £10 non-refundable deposit will be required with\nbooking (collected via SumUp).\n\n\nRally slips to:\nSee Rally Handbook\n\n\nRally Marshals:\n Graham Sewell\, Norfolk Centre Chairman accompanied by members of the Norfolk\nCentre Committee. Email: chairman.norfolk.centre@gmail.com.
URL:https://www.suffolkcentre.org.uk/programme/anglia-region-question-time-2020/
LOCATION:Banham Zoo\, Kenninghall Road\, Banham\,\, NR16 2HE.
END:VEVENT
END:VCALENDAR