BEGIN:VCALENDAR
VERSION:2.0
PRODID:-//Suffolk Centre - ECPv6.15.20//NONSGML v1.0//EN
CALSCALE:GREGORIAN
METHOD:PUBLISH
X-ORIGINAL-URL:https://www.suffolkcentre.org.uk
X-WR-CALDESC:Events for Suffolk Centre
REFRESH-INTERVAL;VALUE=DURATION:PT1H
X-Robots-Tag:noindex
X-PUBLISHED-TTL:PT1H
BEGIN:VTIMEZONE
TZID:UTC
BEGIN:STANDARD
TZOFFSETFROM:+0000
TZOFFSETTO:+0000
TZNAME:UTC
DTSTART:20220101T000000
END:STANDARD
END:VTIMEZONE
BEGIN:VEVENT
DTSTART;TZID=UTC:20230713T103000
DTEND;TZID=UTC:20230716T160000
DTSTAMP:20260422T152600
CREATED:20211229T130231Z
LAST-MODIFIED:20221228T235541Z
UID:3945-1689244200-1689523200@www.suffolkcentre.org.uk
SUMMARY:Chairman's Thank You  Rally
DESCRIPTION:No Of Nights:\n2\n\n\nPost Code:\nIP3 8UH\n\n\nWhat3Words.Com:\nMain entrance to site:  ///peanut.installs.towel\n\n\nRally limit:\n50 Vans\n\n\nDirections:\nTravelling over the Orwell Bridge\, from the A14 take exit sp Lowestoft A12and Ipswich East. At the roundabout take A1156 towards Ipswich. Travel for a little over a mile passing Honda Garage on your right and at roundabout take the third exit to enter Trinity Park. Note Trinity Park is signposted – look for their brown signs.\n\n\nServices:\nWithin walking distance of supermarkets/local shops.  Own sanitation essential. Electric hook-up should be available\, contact marshals to confirm.\n\n\nProgramme:\nSite fee £18 per night including EHU and VAT. A raffle will take place\, so any donations would be welcome. Local attractions not far from rally field.\n\n\nRally slips to:\nSee Rally Handbook. Bookings also accepted by emailing a copy of your rally slip to: thankyou.sccc@btinternet.com\n\n\nRally Marshalls:\nRon & Denise King\n\n\nSlips to Marshall by:\nIf booking within 10 days of the rally\, please contact Ron King for availability of spaces.\n\n\n\n 
URL:https://www.suffolkcentre.org.uk/programme/chairmans-charity-rally/
LOCATION:TRINITY PARK\, Felixstowe Road\, Ipswich\, Suffolk\, IP3 8UH\, United Kingdom
END:VEVENT
END:VCALENDAR