BEGIN:VCALENDAR
VERSION:2.0
PRODID:-//Suffolk Centre - ECPv6.15.20//NONSGML v1.0//EN
CALSCALE:GREGORIAN
METHOD:PUBLISH
X-ORIGINAL-URL:https://www.suffolkcentre.org.uk
X-WR-CALDESC:Events for Suffolk Centre
REFRESH-INTERVAL;VALUE=DURATION:PT1H
X-Robots-Tag:noindex
X-PUBLISHED-TTL:PT1H
BEGIN:VTIMEZONE
TZID:UTC
BEGIN:STANDARD
TZOFFSETFROM:+0000
TZOFFSETTO:+0000
TZNAME:UTC
DTSTART:20210101T000000
END:STANDARD
END:VTIMEZONE
BEGIN:VEVENT
DTSTART;TZID=UTC:20220916T110000
DTEND;TZID=UTC:20220918T150000
DTSTAMP:20260423T041212
CREATED:20190115T124329Z
LAST-MODIFIED:20211229T151628Z
UID:937-1663326000-1663513200@www.suffolkcentre.org.uk
SUMMARY:Inter Centre Fishing Competition Stonham Barns
DESCRIPTION:Invitation By The North Essex Centre \n\n\n\nPost Code:\nIP14 6AT\n\n\nWhat3words.com\n//bill.mended.fingertip – Main road entrance\n\n\nRally Limit:\nUnlimited Vans\n\n\nProgramme:\nCost of rally £18 per night inclusive of electric hook-up or £15 per night non-electric. Full details from the North Essex Website: https://northessexcaravanclub.org.\n\n\nRally slips to:\nSee Handbook\n\n\nRally Marshals:\nAndy Wade\n\n\nSlips to Marshals by:\n2nd September 2022
URL:https://www.suffolkcentre.org.uk/programme/inter-centre-fishing-competition/
LOCATION:stonham Barns\, Pettaugh Road\, Stinham Aspal\, Suffolk\, IP14 6AT
ATTACH;FMTTYPE=image/jpeg:https://www.suffolkcentre.org.uk/wp-content/uploads/2020/12/th.jpg
END:VEVENT
END:VCALENDAR