BEGIN:VCALENDAR
VERSION:2.0
PRODID:-//Suffolk Centre - ECPv6.15.20//NONSGML v1.0//EN
CALSCALE:GREGORIAN
METHOD:PUBLISH
X-ORIGINAL-URL:https://www.suffolkcentre.org.uk
X-WR-CALDESC:Events for Suffolk Centre
REFRESH-INTERVAL;VALUE=DURATION:PT1H
X-Robots-Tag:noindex
X-PUBLISHED-TTL:PT1H
BEGIN:VTIMEZONE
TZID:UTC
BEGIN:STANDARD
TZOFFSETFROM:+0000
TZOFFSETTO:+0000
TZNAME:UTC
DTSTART:20210101T000000
END:STANDARD
END:VTIMEZONE
BEGIN:VEVENT
DTSTART;TZID=UTC:20220213T110000
DTEND;TZID=UTC:20220213T140000
DTSTAMP:20260423T120342
CREATED:20191027T213708Z
LAST-MODIFIED:20201231T161128Z
UID:2533-1644750000-1644760800@www.suffolkcentre.org.uk
SUMMARY:Natter & Chatter 2022
DESCRIPTION:Join us at Hallowtree Scout Camp for our Natter and Chatter get together. \n  \nThere will be help from all those involved in putting together your rally programme – Rally Secretary/Treasurer/Equipment Officer/Webmaster – from the initial finding of a venue through to advertising the programme on the website. \n  \nFind out the how to / when to / what next answers to your questions. \n  \nThe hall will open at 11 a.m. where you will be able to get tea/coffee\, so don’t forget to bring along your mugs. \n  \nPass those all-important rally slips to any attending marshal or find out that bit more about the rally you are interested in. \n  \nOur Secretary can help with any member information although we don’t get the printed copy handbooks we used to\, a lot now arrive in PDF format due to data protection. Find out about how we store and use your information. \n  \nPerhaps you feel something isn’t right\, could we do more\, what you find irritating about rallies or what you really enjoy\, and look forward to.  This year we will have a suggestion box in the foyer where you can raise those points\, anonymously.  The committee always welcomes constructive criticism.  \n  \nYou don’t need to book – just turn up on the day.
URL:https://www.suffolkcentre.org.uk/programme/natter-chatter-get-together-2022-draft/
LOCATION:Thetford\, Little Lodge Farm\, Brandon\, IP27 0TX
END:VEVENT
END:VCALENDAR