BEGIN:VCALENDAR
VERSION:2.0
PRODID:-//Suffolk Centre - ECPv6.15.20//NONSGML v1.0//EN
CALSCALE:GREGORIAN
METHOD:PUBLISH
X-ORIGINAL-URL:https://www.suffolkcentre.org.uk
X-WR-CALDESC:Events for Suffolk Centre
REFRESH-INTERVAL;VALUE=DURATION:PT1H
X-Robots-Tag:noindex
X-PUBLISHED-TTL:PT1H
BEGIN:VTIMEZONE
TZID:UTC
BEGIN:STANDARD
TZOFFSETFROM:+0000
TZOFFSETTO:+0000
TZNAME:UTC
DTSTART:20200101T000000
END:STANDARD
END:VTIMEZONE
BEGIN:VEVENT
DTSTART;TZID=UTC:20210910T181500
DTEND;TZID=UTC:20210912T150000
DTSTAMP:20260423T184024
CREATED:20191210T221314Z
LAST-MODIFIED:20201231T145556Z
UID:2770-1631297700-1631458800@www.suffolkcentre.org.uk
SUMMARY:Regional AGM - Hosted by South Essex Centre
DESCRIPTION:  \n\n\n\nMap reference:\n \n\n\nPost Code:\nCM1 7ER\n\n\nWhat3Words.Com:\n///bared.snail.stable – should be school main entrance\n\n\nRally limit:\n50 Vans\n\n\nDirections:\nA12 Chelmsford\, then follow A&E signs to Broomfield Hospital. School turning (Court Road) is on the Left (coming from Chelmsford) before Broomfield Hospital roundabout. From Chelmsford bypass follow A&E signs. Go over roundabout and the school turning (Court Road) is the first on the right.\n\n\nServices:\n \n\n\nProgramme:\nSaturday Evening Social:  3 Course meal provided by SECC committee\, followed by entertainment. The cost of the social will be £19.00 per person. Please indicate on slip if you wish to partake in the social.  \nRegional AGM will be held on Sunday 12th September commencing at 11:00 a.m.   \nPlease remember to bring your CAMC membership cards.  \nSITE FEE:  £4.50 per night plus VAT \nRally opens 6.15pm Friday 10th September – Please do not arrive before this time.\n\n\nRally slips to:\nSee Rally Handbook\n\n\nRally Marshals:\nDavid Mills\n\n\nSlips to Marshal by:\n22nd August 2021
URL:https://www.suffolkcentre.org.uk/programme/regional-agm-hosted-by-south-essex-centre/
LOCATION:Chelmer Valley High School\, Court Road\, Broomfield\, Chelmsford\, Essex\, CM1 7ER
END:VEVENT
BEGIN:VEVENT
DTSTART;TZID=UTC:20210912T100000
DTEND;TZID=UTC:20210919T090000
DTSTAMP:20260423T184024
CREATED:20190112T181901Z
LAST-MODIFIED:20210517T212952Z
UID:930-1631440800-1632042000@www.suffolkcentre.org.uk
SUMMARY:Delftse Hout Rally
DESCRIPTION:Please note that the rally marshals have cancelled this rally due to travel restrictions. \n\n\n\nRally limit:\n33 Vans – Rally cancelled \n\n\nDirections:\nContact marshals for full details\n\n\nServices:\nAll facilities offered from a commercial site. See website for details.\n\n\nProgramme:\nPlenty of chances to visit the area. Relaxing week with some entertainment planned. \n  Rally opens: 10 am Sunday 12th September and Closes 9am Sunday 19th September 2021 \n\n\nRally slips to:\nSee Rally Book\n\n\nRally Marshals:\nSheena and Michael McCartney\n\n\nSlips to Marshals by:\n 
URL:https://www.suffolkcentre.org.uk/programme/delftse-hout-rally/
LOCATION:Delftse Hout\, Korftlaan 5\,\, 2616 LJ Delft\, Holland\, Netherlands
ATTACH;FMTTYPE=image/jpeg:https://www.suffolkcentre.org.uk/wp-content/uploads/2019/01/event_holland.jpg
END:VEVENT
END:VCALENDAR