BEGIN:VCALENDAR
VERSION:2.0
PRODID:-//Suffolk Centre - ECPv6.15.20//NONSGML v1.0//EN
CALSCALE:GREGORIAN
METHOD:PUBLISH
X-WR-CALNAME:Suffolk Centre
X-ORIGINAL-URL:https://www.suffolkcentre.org.uk
X-WR-CALDESC:Events for Suffolk Centre
REFRESH-INTERVAL;VALUE=DURATION:PT1H
X-Robots-Tag:noindex
X-PUBLISHED-TTL:PT1H
BEGIN:VTIMEZONE
TZID:UTC
BEGIN:STANDARD
TZOFFSETFROM:+0000
TZOFFSETTO:+0000
TZNAME:UTC
DTSTART:20200101T000000
END:STANDARD
END:VTIMEZONE
BEGIN:VEVENT
DTSTART;TZID=UTC:20210625T110000
DTEND;TZID=UTC:20210704T160000
DTSTAMP:20260423T224138
CREATED:20191208T232238Z
LAST-MODIFIED:20201231T124713Z
UID:2724-1624618800-1625414400@www.suffolkcentre.org.uk
SUMMARY:Glide Up To Norfolk Holiday Rally
DESCRIPTION:  \n\n\n\nMap reference:\n \n\n\nPost Code:\nNR16 1NT\n\n\nWhat3Words.Com:\nEntrance from main road: ///heraldry.heist.registration \nRally field entrance: ///shampoos.carry.logged\n\n\nRally limit:\n30 Vans\n\n\nDirections:\nTibenham Airfield is 4 miles SW of Long Stratton\, on the A140 Norwich to Ipswich Road. From A140 North go through village of Long Stratton for 3.5 miles to the roundabout. Turn onto B1134 Attleborough\, drive for 2.5 miles\, over level crossing past the Maltings. At half a mile turn right onto Plantation Road (sp Tibenham Airfield Ind Estate). Entrance to the airfield is on the left in approx 0.8 of a mile. From A140 South go past The Ram pub\, then after a mile turn left at the roundabout onto the B1134 towards Attleborough and follow directions as above.\n\n\nServices:\nTibenham Airfield is a WWII Airfield and is now the home of the Norfolk Gliding Club. There is a unisex toilet and shower block on site that ralliers may use\, a club house and a bar. Flying days are  Wednesday\, Friday\, Saturday and Sunday. Trial flights can be arranged\, details can be given to enable members to privately book. No electric hook-up.\n\n\nProgramme:\nA relaxing time away in the Norfolk countryside at the  home of the Norfolk Gliding Club. Easy access to surrounding area and main roads. Level field. Dogs are welcome but must be on a lead at all times\, please clear up after your pet. Access to walk the site and runways but care must be taken on flying days\, vehicles are not allowed to enter. Clubhouse and bar access\, possibility of a meeting room if circumstances have changed. \nSite fee £10+VAT per night\, small sundry and VAT charge. \nRALLY OPENS: 11 a.m. Friday 25th June and CLOSES 4 p.m. Sunday 4th July.\n\n\nRally slips to:\nSee Rally Handbook\n\n\nRally Marshals:\nJanet & Alan Dobson\n\n\nSlips to Marshal by:\n11th June 2021
URL:https://www.suffolkcentre.org.uk/programme/glide-up-to-norfolk/
LOCATION:Tibenham Airfield\, Tibenham\, Norfolk\, NR16 1NT
ATTACH;FMTTYPE=image/jpeg:https://www.suffolkcentre.org.uk/wp-content/uploads/2019/12/th.jpg
END:VEVENT
END:VCALENDAR