BEGIN:VCALENDAR
VERSION:2.0
PRODID:-//Suffolk Centre - ECPv6.15.20//NONSGML v1.0//EN
CALSCALE:GREGORIAN
METHOD:PUBLISH
X-ORIGINAL-URL:https://www.suffolkcentre.org.uk
X-WR-CALDESC:Events for Suffolk Centre
REFRESH-INTERVAL;VALUE=DURATION:PT1H
X-Robots-Tag:noindex
X-PUBLISHED-TTL:PT1H
BEGIN:VTIMEZONE
TZID:UTC
BEGIN:STANDARD
TZOFFSETFROM:+0000
TZOFFSETTO:+0000
TZNAME:UTC
DTSTART:20250101T000000
END:STANDARD
END:VTIMEZONE
BEGIN:VEVENT
DTSTART;TZID=UTC:20261229T120000
DTEND;TZID=UTC:20270102T120000
DTSTAMP:20260421T193508
CREATED:20190115T152550Z
LAST-MODIFIED:20251230T162955Z
UID:973-1798545600-1798891200@www.suffolkcentre.org.uk
SUMMARY:NEW YEAR RALLY
DESCRIPTION:Invitation from North Essex \n\n\n\nPostcode:\nIP3 8UH\n\n\nRally Limit:\n125 units  \n\n\nDirections:\nTravel along the A12 until it joins the A14\, and follow signs for Felixstowe\, travelling over the Orwell bridge. From A14 take exit sp Lowestoft A12 and Ipswich East. At the roundabout take A1156 towards Ipswich. Travel a little over a mile passing Honda garage on your right. At roundabout take third exit to enter Trinity Park. NOTE: Trinity Park is signposted\, look for Brown signs.       \n\n\nServices:\nElectric available on this rally.\n\n\n\nProgramme:\n  \n\nJoin us for a fun filled New Year. 4 nights with electric. Live entertainment with food on 2 nights and much more! New Year’s Eve Fancy dress party – Full programme to be advised later in the year.  Site fee: PREPAID RALLY Deposit of £100 required to secure place which includes 4 nights with electric\, shower block\, entertainment\, admin and VAT. \n\n\nRally slips to:\nBook online or slips to: Barry Bridges\n\n\nRally Marshals:\nBarry & Debbie Bridges with Greg & Tina Potter\, Mick & Marion Brown & Jason & Dawn Newbold.\n\n\nSlips to Marshals by:\nBookings by 30th September 2026 please.
URL:https://www.suffolkcentre.org.uk/programme/new-year-rally/
LOCATION:TRINITY PARK\, Felixstowe Road\, Ipswich\, Suffolk\, IP3 8UH\, United Kingdom
ATTACH;FMTTYPE=image/jpeg:https://www.suffolkcentre.org.uk/wp-content/uploads/2019/01/IMG_7771.jpg
END:VEVENT
BEGIN:VEVENT
DTSTART;TZID=UTC:20270109T100000
DTEND;TZID=UTC:20270111T120000
DTSTAMP:20260421T193508
CREATED:20191222T232642Z
LAST-MODIFIED:20251230T163059Z
UID:2810-1799488800-1799668800@www.suffolkcentre.org.uk
SUMMARY:First Rally Of The Year
DESCRIPTION:  \n\n\n\nNo Of Nights:\n2\n\n\nPostcode:\nIP13 9QE\n\n\nWhat3words:\n///going.wept.songbirds\n\n\nRally limit:\n10 Vans\n\n\nDirections:\nFrom Framlingham take B1119 and follow signs to Saxtead Mill. \nFrom the A1120 turn towards Framlingham at Saxtead Mill and follow the rally signs.\n\n\nServices:\nOwn sanitation essential. Organic Green Toilet Fluid Required. Shops in Framlingham 2 miles.\n\n\nProgramme:\nRally alongside the Old Mill House public house. Within walking distance of Saxtead Green Post Mill (open Fridays and Saturdays). All Saint’s Church is a Grade I listed building approx. 0.5 miles from rally field. \nDo as you please weekend\, lovely friendly pub\, great food and beers. \nRally fee is £12.40 inc. VAT for the weekend which includes a £10 voucher to use against food in the pub.\n\n\nRally slips to:\nSee Centre Handbook\n\n\nRally Marshals:\nCarole and Nick Harbottle\n\n\nSlips to Marshals by:\nIf booking within 10 days of the rally\, please contact Carole or Nick for availability of spaces.
URL:https://www.suffolkcentre.org.uk/programme/first-rally-of-the-year/
LOCATION:THE OLD MILL PUBLIC HOUSE\, The Green\, Saxted\, IP13 9QE
ATTACH;FMTTYPE=image/jpeg:https://www.suffolkcentre.org.uk/wp-content/uploads/2019/01/old_mill_house.jpg
END:VEVENT
BEGIN:VEVENT
DTSTART;TZID=UTC:20270115T110000
DTEND;TZID=UTC:20270117T140000
DTSTAMP:20260421T193508
CREATED:20181211T120434Z
LAST-MODIFIED:20251230T163325Z
UID:182-1800010800-1800194400@www.suffolkcentre.org.uk
SUMMARY:Burns Supper
DESCRIPTION:  \n\n\n\nNo Of Nights:\n2\n\n\nPost Code:\nIP10  0JP\n\n\nWhat3Words:\n///flops.undercuts.grow\n\n\nRally limit:\n50 Vans\n\n\nDirections:\nLeave A14 signed Nacton Road Industrial Estate both from East and West\, and follow rally signs.\n\n\nServices:\nToilets are available but own sanitation is essential. Short distance to local shops\, pubs and amenities\n\n\nProgramme:\nThis is a weekend with a Scottish flavour. A traditional Burns Night supper on Saturday evening followed by a porridge breakfast served in the hall on Sunday morning. \nIt’s a short distance to local shops\, pubs and amenities and although toilets are available\, own sanitation is essential. There is limited electric hookups available\, on a first arrival basis.\n\n\nRally slips to:\nSee Rally Handbook for address \n\n\nRally Marshals:\nRon & Wendy Johnson\n\n\nSlips to Marshals by:\nIf booking within 10 days of the rally\, please contact Ron Johnson for availability of spaces.
URL:https://www.suffolkcentre.org.uk/programme/burns-supper/
LOCATION:Hallowtree Scout Camp\, Nacton\, Ipswich\, Suffolk\, IP10 0JP
ATTACH;FMTTYPE=image/jpeg:https://www.suffolkcentre.org.uk/wp-content/uploads/2018/12/event_burnsnight.jpg
END:VEVENT
END:VCALENDAR